{"text_format":"1","workbook":"xlsx","n_sheets":6,"sheets":["Workflow","Internal","Option Documents","IRS Documents","Pricing Data","Device"],"not_rendered":{"charts":0,"images":0,"macros":1,"external_links":1,"defined_names":18,"comments":0,"pivot_tables":0},"unopened":[],"bounds":{"document_bytes":16777216,"sheet_cells":100000,"rows_first":2000,"rows_last":500,"rows_between":2000,"halvings":0,"cell_chars":16384,"cell_head_chars":4096},"cells_cut":0,"cells_raw":0,"read":"whole","date_system":"1900"}

{"sheet":"Workflow","index":0,"n_rows":20,"n_cols":13,"rows_kept":20,"cut":false,"hidden":false,"merged":[]}
[]
[null,"project","<input_your_project>"]
[null,"pathDoc",{"$f":"IF(NOT(C7),CONCATENATE(\"/projects/\",C2,\"/src/test/resources/documents/tutorial_Portfolio.json\"),\"\")","v":"/projects/<input_your_project>/src/test/resources/documents/tutorial_Portfolio.json"}]
[null,"pathPricingData",{"$f":"IF(NOT(C7),CONCATENATE(\"/projects/\",C2,\"/src/test/resources/pricingData/tutorial_Portfolio.scn\"),\"\")","v":"/projects/<input_your_project>/src/test/resources/pricingData/tutorial_Portfolio.scn"},"Options documents","IRS documents"]
[null,"documents",{"$f":"IF(C7,[1]!JsonMergeArrays(D5:E5),\"\")","v":""},{"$f":"OPTDOCS","v":"^39@16:01:52"},{"$f":"IRSDOCS","v":"^218@16:01:52"}]
[null,"pricingData",{"$f":"IF(C7,PricingData,\"\")","v":""}]
[null,"inputIncluded",false]
[null,"shiftsIncluded",false]
[null,"shifts",{"$f":"IF((C8),[1]!JsonArray(C10),\"\")","v":"^228@16:39:47"}]
[null,null,{"$f":"IF(C8,[1]!JsonObject($B$11:$B$16,$C$11:$C$16,\"Obj\"),\"\")","v":"^Obj~227@16:39:47"}]
[null,"type","YIELD_CURVE"]
[null,"param1","projection_Libor_3M"]
[null,"param2","discountFactor"]
[null,"min",-10]
[null,"max",10]
[null,"steps",3]
[]
[]
[null,"workflow","box",null,null,"data","message","messages","config","request","compute?","request call","results"]
[null,"tutorial_Portfolio","tutorial_Portfolio",null,null,{"$f":"[1]!JsonObject(B3:B9,C3:C9)","v":"^221@16:01:52"},{"$f":"[1]!JsonObject($C$19:$F$19,$C$20:$F$20,\"Obj\")","v":"^Obj~222@16:01:52"},{"$f":"[1]!JsonArray($G$20)","v":"^223@16:01:52"},{"$f":"config","v":"^Obj~153@16:01:52"},{"$f":"[1]!JsonObject($H$19:$I$19, $H$20:$I$20)","v":"^224@16:01:52"},true,{"$f":"IF($K$20,[1]!FppExecuteWorkflowRequest($B$20,$J$20,FPP_LIB),\"\")","v":"tutorial_Portfolio:0@16:01:52"},{"$f":"IFERROR([1]!FppGetResultWorkflow(L20,C20,\"results\"),\"\")","v":"^225@16:02:05"}]

{"sheet":"Internal","index":1,"n_rows":4,"n_cols":2,"rows_kept":4,"cut":false,"hidden":true,"merged":[]}
["_device","_curve"]
["JAVA","discount_Libor_3M"]
["GROOVY","projection_Libor_3M"]
["SIMD CPU"]

{"sheet":"Option Documents","index":2,"n_rows":8,"n_cols":16,"rows_kept":8,"cut":false,"hidden":false,"merged":[]}
[]
[]
[null,"Option Documents Array","Objects","dealStamp","type","script","maturity_date","strike","value_date","curve","typeOfDeals","currency","counterparty","stockdata","instrument","name"]
[null,{"$f":"[1]!JsonArray(C4:C8)","v":"^39@16:01:52"},{"$f":"[1]!JsonObject($D$3:$N$3,D4:N4)","v":"^33@16:01:52"},"Option_Document_1","call","tutorial_EUadvanced","2019-04-25",43000,"2017-04-13","projection_Libor_3M","Option","USD","Bank of America",{"$f":"[1]!JsonObject($O$3:$P$3,O4:P4)","v":"^31@16:01:52"},"EQUITY","Company_A"]
[null,null,{"$f":"[1]!JsonObject($D$3:$N$3,D5:N5)","v":"^29@16:01:52"},"Option_Document_2","call","tutorial_EUadvanced","2019-04-25",44000,"2017-04-13","projection_Libor_3M","Option","USD","Citi",{"$f":"[1]!JsonObject($O$3:$P$3,O5:P5)","v":"^28@16:01:52"},"EQUITY","Company_A"]
[null,null,{"$f":"[1]!JsonObject($D$3:$N$3,D6:N6)","v":"^38@16:01:52"},"Option_Document_3","call","tutorial_EUadvanced","2019-04-25",45000,"2017-04-13","projection_Libor_3M","Option","USD","BNP",{"$f":"[1]!JsonObject($O$3:$P$3,O6:P6)","v":"^26@16:01:52"},"EQUITY","Company_A"]
[null,null,{"$f":"[1]!JsonObject($D$3:$N$3,D7:N7)","v":"^36@16:01:52"},"Option_Document_4","call","tutorial_EUadvanced","2019-04-25",46000,"2017-04-13","projection_Libor_3M","Option","USD","UBS",{"$f":"[1]!JsonObject($O$3:$P$3,O7:P7)","v":"^34@16:01:52"},"EQUITY","Company_A"]
[null,null,{"$f":"[1]!JsonObject($D$3:$N$3,D8:N8)","v":"^32@16:01:52"},"Option_Document_5","call","tutorial_EUadvanced","2019-04-25",47000,"2017-04-13","projection_Libor_3M","Option","USD","Societe Generale",{"$f":"[1]!JsonObject($O$3:$P$3,O8:P8)","v":"^30@16:01:52"},"EQUITY","Company_A"]

{"sheet":"IRS Documents","index":3,"n_rows":81,"n_cols":13,"rows_kept":81,"cut":false,"hidden":false,"merged":[]}
[]
[]
[null,"IRS Documents Array","IRS_Document_1","dealStamp","typeOfDeals","currency","counterparty","script","legs","legs1","legs2"]
[null,{"$f":"[1]!JsonArray(IRS_ARRAY)","v":"^218@16:01:52"},{"$f":"[1]!JsonObject($D$3:$I$3,$D$4:$I$4,\"Obj\")","v":"^Obj~208@16:01:52"},"IRS_Document_1","IRS","USD","Bank of America","tutorial_IRS",{"$f":"[1]!JsonArray(J4:K4)","v":"^207@16:01:52"},{"$f":"C8","v":"^Obj~181@16:01:52"},{"$f":"C14","v":"^Obj~185@16:01:52"}]
[]
[]
[null,null,"Object","basis","discountCurve","fixedRate","indexationType","notional","payOrRec","schedule","Object","endDate","startDate"]
[null,null,{"$f":"[1]!JsonObject($D$7:$J$7,$D$8:$J$8,\"Obj\")","v":"^Obj~181@16:01:52"},"ACT/365.FIXED","discount_Libor_3M",1.6E-2,"fixed",100000,"paying",{"$f":"[1]!JsonArray(K8:K11)","v":"^169@16:01:52"},{"$f":"[1]!JsonObject($L$7:$M$7,L8:M8,\"Obj\")","v":"^Obj~66@16:01:52"},"2017-06-01","2017-03-01"]
[null,null,null,null,null,null,null,null,null,null,{"$f":"[1]!JsonObject($L$7:$M$7,L9:M9,\"Obj\")","v":"^Obj~43@16:01:52"},"2017-09-01","2017-06-01"]
[null,null,null,null,null,null,null,null,null,null,{"$f":"[1]!JsonObject($L$7:$M$7,L10:M10,\"Obj\")","v":"^Obj~139@16:01:52"},"2017-12-01","2017-09-01"]
[null,null,null,null,null,null,null,null,null,null,{"$f":"[1]!JsonObject($L$7:$M$7,L11:M11,\"Obj\")","v":"^Obj~86@16:01:52"},"2018-03-01","2017-12-01"]
[]
[null,null,"Object","basis","discountCurve","indexationType","notional","payOrRec","projectionCurve","schedule","Object","endDate","startDate"]
[null,null,{"$f":"[1]!JsonObject($D$13:$J$13,$D$14:$J$14,\"Obj\")","v":"^Obj~185@16:01:52"},"ACT/365.FIXED","discount_Libor_3M","floating",1,"receiving","projection_Libor_3M",{"$f":"[1]!JsonArray(K14:K17)","v":"^174@16:01:52"},{"$f":"[1]!JsonObject($L$13:$M$13,L14:M14,\"Obj\")","v":"^Obj~59@16:01:52"},"2017-06-01","2017-03-01"]
[null,null,null,null,null,null,null,null,null,null,{"$f":"[1]!JsonObject($L$13:$M$13,L15:M15,\"Obj\")","v":"^Obj~95@16:01:52"},"2017-09-01","2017-06-01"]
[null,null,null,null,null,null,null,null,null,null,{"$f":"[1]!JsonObject($L$13:$M$13,L16:M16,\"Obj\")","v":"^Obj~53@16:01:52"},"2017-12-01","2017-09-01"]
[null,null,null,null,null,null,null,null,null,null,{"$f":"[1]!JsonObject($L$13:$M$13,L17:M17,\"Obj\")","v":"^Obj~132@16:01:52"},"2018-03-01","2017-12-01"]
[]
[null,null,"IRS_Document_2","dealStamp","typeOfDeals","currency","counterparty","script","legs","legs1","legs2"]
[null,null,{"$f":"[1]!JsonObject($D$19:$I$19,$D$20:$I$20,\"Obj\")","v":"^Obj~211@16:01:52"},"IRS_Document_2","IRS","USD","Citi","tutorial_IRS",{"$f":"[1]!JsonArray(J20:K20)","v":"^203@16:01:52"},{"$f":"C24","v":"^Obj~187@16:01:52"},{"$f":"C30","v":"^Obj~162@16:01:52"}]
[]
[]
[null,null,"Object","basis","discountCurve","fixedRate","indexationType","notional","payOrRec","schedule","Object","endDate","startDate"]
[null,null,{"$f":"[1]!JsonObject($D$23:$J$23,$D$24:$J$24,\"Obj\")","v":"^Obj~187@16:01:52"},"ACT/365.FIXED","discount_Libor_3M",1.6E-2,"fixed",110000,"paying",{"$f":"[1]!JsonArray(K24:K27)","v":"^168@16:01:52"},{"$f":"[1]!JsonObject($L$7:$M$7,L24:M24,\"Obj\")","v":"^Obj~113@16:01:52"},"2017-06-01","2017-03-01"]
[null,null,null,null,null,null,null,null,null,null,{"$f":"[1]!JsonObject($L$7:$M$7,L25:M25,\"Obj\")","v":"^Obj~114@16:01:52"},"2017-09-01","2017-06-01"]
[null,null,null,null,null,null,null,null,null,null,{"$f":"[1]!JsonObject($L$7:$M$7,L26:M26,\"Obj\")","v":"^Obj~64@16:01:52"},"2017-12-01","2017-09-01"]
[null,null,null,null,null,null,null,null,null,null,{"$f":"[1]!JsonObject($L$7:$M$7,L27:M27,\"Obj\")","v":"^Obj~90@16:01:52"},"2018-03-01","2017-12-01"]
[]
[null,null,"Object","basis","discountCurve","indexationType","notional","payOrRec","projectionCurve","schedule","Object","endDate","startDate"]
[null,null,{"$f":"[1]!JsonObject($D$29:$J$29,$D$30:$J$30,\"Obj\")","v":"^Obj~162@16:01:52"},"ACT/365.FIXED","discount_Libor_3M","floating",1.1000000000000001,"receiving","projection_Libor_3M",{"$f":"[1]!JsonArray(K30:K33)","v":"^134@16:01:52"},{"$f":"[1]!JsonObject($L$13:$M$13,L30:M30,\"Obj\")","v":"^Obj~133@16:01:52"},"2017-06-01","2017-03-01"]
[null,null,null,null,null,null,null,null,null,null,{"$f":"[1]!JsonObject($L$13:$M$13,L31:M31,\"Obj\")","v":"^Obj~47@16:01:52"},"2017-09-01","2017-06-01"]
[null,null,null,null,null,null,null,null,null,null,{"$f":"[1]!JsonObject($L$13:$M$13,L32:M32,\"Obj\")","v":"^Obj~99@16:01:52"},"2017-12-01","2017-09-01"]
[null,null,null,null,null,null,null,null,null,null,{"$f":"[1]!JsonObject($L$13:$M$13,L33:M33,\"Obj\")","v":"^Obj~71@16:01:52"},"2018-03-01","2017-12-01"]
[]
[null,null,"IRS_Document_3","dealStamp","typeOfDeals","currency","counterparty","script","legs","legs1","legs2"]
[null,null,{"$f":"[1]!JsonObject($D$35:$I$35,$D$36:$I$36,\"Obj\")","v":"^Obj~217@16:01:52"},"IRS_Document_3","IRS","USD","BNP","tutorial_IRS",{"$f":"[1]!JsonArray(J36:K36)","v":"^213@16:01:52"},{"$f":"C40","v":"^Obj~189@16:01:52"},{"$f":"C46","v":"^Obj~200@16:01:52"}]
[]
[]
[null,null,"Object","basis","discountCurve","fixedRate","indexationType","notional","payOrRec","schedule","Object","endDate","startDate"]
[null,null,{"$f":"[1]!JsonObject($D$39:$J$39,$D$40:$J$40,\"Obj\")","v":"^Obj~189@16:01:52"},"ACT/365.FIXED","discount_Libor_3M",1.6E-2,"fixed",120000,"paying",{"$f":"[1]!JsonArray(K40:K43)","v":"^154@16:01:52"},{"$f":"[1]!JsonObject($L$7:$M$7,L40:M40,\"Obj\")","v":"^Obj~62@16:01:52"},"2017-06-01","2017-03-01"]
[null,null,null,null,null,null,null,null,null,null,{"$f":"[1]!JsonObject($L$7:$M$7,L41:M41,\"Obj\")","v":"^Obj~117@16:01:52"},"2017-09-01","2017-06-01"]
[null,null,null,null,null,null,null,null,null,null,{"$f":"[1]!JsonObject($L$7:$M$7,L42:M42,\"Obj\")","v":"^Obj~63@16:01:52"},"2017-12-01","2017-09-01"]
[null,null,null,null,null,null,null,null,null,null,{"$f":"[1]!JsonObject($L$7:$M$7,L43:M43,\"Obj\")","v":"^Obj~119@16:01:52"},"2018-03-01","2017-12-01"]
[]
[null,null,"Object","basis","discountCurve","indexationType","notional","payOrRec","projectionCurve","schedule","Object","endDate","startDate"]
[null,null,{"$f":"[1]!JsonObject($D$45:$J$45,$D$46:$J$46,\"Obj\")","v":"^Obj~200@16:01:52"},"ACT/365.FIXED","discount_Libor_3M","floating",1.3,"receiving","projection_Libor_3M",{"$f":"[1]!JsonArray(K46:K49)","v":"^172@16:01:52"},{"$f":"[1]!JsonObject($L$13:$M$13,L46:M46,\"Obj\")","v":"^Obj~75@16:01:52"},"2017-06-01","2017-03-01"]
[null,null,null,null,null,null,null,null,null,null,{"$f":"[1]!JsonObject($L$13:$M$13,L47:M47,\"Obj\")","v":"^Obj~52@16:01:52"},"2017-09-01","2017-06-01"]
[null,null,null,null,null,null,null,null,null,null,{"$f":"[1]!JsonObject($L$13:$M$13,L48:M48,\"Obj\")","v":"^Obj~112@16:01:52"},"2017-12-01","2017-09-01"]
[null,null,null,null,null,null,null,null,null,null,{"$f":"[1]!JsonObject($L$13:$M$13,L49:M49,\"Obj\")","v":"^Obj~102@16:01:52"},"2018-03-01","2017-12-01"]
[]
[null,null,"IRS_Document_4","dealStamp","typeOfDeals","currency","counterparty","script","legs","legs1","legs2"]
[null,null,{"$f":"[1]!JsonObject($D$51:$I$51,$D$52:$I$52,\"Obj\")","v":"^Obj~212@16:01:52"},"IRS_Document_4","IRS","USD","UBS","tutorial_IRS",{"$f":"[1]!JsonArray(J52:K52)","v":"^202@16:01:52"},{"$f":"C56","v":"^Obj~183@16:01:52"},{"$f":"C62","v":"^Obj~188@16:01:52"}]
[]
[]
[null,null,"Object","basis","discountCurve","fixedRate","indexationType","notional","payOrRec","schedule","Object","endDate","startDate"]
[null,null,{"$f":"[1]!JsonObject($D$55:$J$55,$D$56:$J$56,\"Obj\")","v":"^Obj~183@16:01:52"},"ACT/365.FIXED","discount_Libor_3M",1.6E-2,"fixed",140000,"paying",{"$f":"[1]!JsonArray(K56:K59)","v":"^156@16:01:52"},{"$f":"[1]!JsonObject($L$7:$M$7,L56:M56,\"Obj\")","v":"^Obj~42@16:01:52"},"2017-06-01","2017-03-01"]
[null,null,null,null,null,null,null,null,null,null,{"$f":"[1]!JsonObject($L$7:$M$7,L57:M57,\"Obj\")","v":"^Obj~77@16:01:52"},"2017-09-01","2017-06-01"]
[null,null,null,null,null,null,null,null,null,null,{"$f":"[1]!JsonObject($L$7:$M$7,L58:M58,\"Obj\")","v":"^Obj~136@16:01:52"},"2017-12-01","2017-09-01"]
[null,null,null,null,null,null,null,null,null,null,{"$f":"[1]!JsonObject($L$7:$M$7,L59:M59,\"Obj\")","v":"^Obj~87@16:01:52"},"2018-03-01","2017-12-01"]
[]
[null,null,"Object","basis","discountCurve","indexationType","notional","payOrRec","projectionCurve","schedule","Object","endDate","startDate"]
[null,null,{"$f":"[1]!JsonObject($D$61:$J$61,$D$62:$J$62,\"Obj\")","v":"^Obj~188@16:01:52"},"ACT/365.FIXED","discount_Libor_3M","floating",1.4,"receiving","projection_Libor_3M",{"$f":"[1]!JsonArray(K62:K65)","v":"^170@16:01:52"},{"$f":"[1]!JsonObject($L$13:$M$13,L62:M62,\"Obj\")","v":"^Obj~141@16:01:52"},"2017-06-01","2017-03-01"]
[null,null,null,null,null,null,null,null,null,null,{"$f":"[1]!JsonObject($L$13:$M$13,L63:M63,\"Obj\")","v":"^Obj~110@16:01:52"},"2017-09-01","2017-06-01"]
[null,null,null,null,null,null,null,null,null,null,{"$f":"[1]!JsonObject($L$13:$M$13,L64:M64,\"Obj\")","v":"^Obj~80@16:01:52"},"2017-12-01","2017-09-01"]
[null,null,null,null,null,null,null,null,null,null,{"$f":"[1]!JsonObject($L$13:$M$13,L65:M65,\"Obj\")","v":"^Obj~76@16:01:52"},"2018-03-01","2017-12-01"]
[]
[null,null,"IRS_Document_5","dealStamp","typeOfDeals","currency","counterparty","script","legs","legs1","legs2"]
[null,null,{"$f":"[1]!JsonObject($D$67:$I$67,$D$68:$I$68,\"Obj\")","v":"^Obj~215@16:01:52"},"IRS_Document_5","IRS","USD","Societe Generale","tutorial_IRS",{"$f":"[1]!JsonArray(J68:K68)","v":"^209@16:01:52"},{"$f":"C72","v":"^Obj~165@16:01:52"},{"$f":"C78","v":"^Obj~182@16:01:52"}]
[]
[]
[null,null,"Object","basis","discountCurve","fixedRate","indexationType","notional","payOrRec","schedule","Object","endDate","startDate"]
[null,null,{"$f":"[1]!JsonObject($D$71:$J$71,$D$72:$J$72,\"Obj\")","v":"^Obj~165@16:01:52"},"ACT/365.FIXED","discount_Libor_3M",1.6E-2,"fixed",150000,"paying",{"$f":"[1]!JsonArray(K72:K75)","v":"^152@16:01:52"},{"$f":"[1]!JsonObject($L$7:$M$7,L72:M72,\"Obj\")","v":"^Obj~116@16:01:52"},"2017-06-01","2017-03-01"]
[null,null,null,null,null,null,null,null,null,null,{"$f":"[1]!JsonObject($L$7:$M$7,L73:M73,\"Obj\")","v":"^Obj~151@16:01:52"},"2017-09-01","2017-06-01"]
[null,null,null,null,null,null,null,null,null,null,{"$f":"[1]!JsonObject($L$7:$M$7,L74:M74,\"Obj\")","v":"^Obj~105@16:01:52"},"2017-12-01","2017-09-01"]
[null,null,null,null,null,null,null,null,null,null,{"$f":"[1]!JsonObject($L$7:$M$7,L75:M75,\"Obj\")","v":"^Obj~127@16:01:52"},"2018-03-01","2017-12-01"]
[]
[null,null,"Object","basis","discountCurve","indexationType","notional","payOrRec","projectionCurve","schedule","Object","endDate","startDate"]
[null,null,{"$f":"[1]!JsonObject($D$77:$J$77,$D$78:$J$78,\"Obj\")","v":"^Obj~182@16:01:52"},"ACT/365.FIXED","discount_Libor_3M","floating",1.5,"receiving","projection_Libor_3M",{"$f":"[1]!JsonArray(K78:K81)","v":"^173@16:01:52"},{"$f":"[1]!JsonObject($L$13:$M$13,L78:M78,\"Obj\")","v":"^Obj~92@16:01:52"},"2017-06-01","2017-03-01"]
[null,null,null,null,null,null,null,null,null,null,{"$f":"[1]!JsonObject($L$13:$M$13,L79:M79,\"Obj\")","v":"^Obj~60@16:01:52"},"2017-09-01","2017-06-01"]
[null,null,null,null,null,null,null,null,null,null,{"$f":"[1]!JsonObject($L$13:$M$13,L80:M80,\"Obj\")","v":"^Obj~124@16:01:52"},"2017-12-01","2017-09-01"]
[null,null,null,null,null,null,null,null,null,null,{"$f":"[1]!JsonObject($L$13:$M$13,L81:M81,\"Obj\")","v":"^Obj~44@16:01:52"},"2018-03-01","2017-12-01"]

{"sheet":"Pricing Data","index":4,"n_rows":72,"n_cols":11,"rows_kept":72,"cut":false,"hidden":false,"merged":[[52,7,71,7],[52,6,71,6],[52,5,71,5],[52,4,71,4],[12,3,15,3],[16,5,17,5],[16,4,17,4],[18,5,23,5],[18,4,23,4],[16,3,43,3],[12,5,13,5],[12,4,13,4],[24,7,43,7],[24,6,43,6],[24,5,43,5],[24,4,43,4],[44,3,71,3],[4,2,71,2],[4,1,71,1],[0,0,71,0],[44,5,45,5],[44,4,45,4],[46,5,51,5],[46,4,51,4],[4,5,5,5],[4,4,5,4],[4,3,7,3],[8,5,9,5],[8,4,9,4],[8,3,11,3]]}
[{"$f":"[1]!JsonObject($B$1:$B$72,$C$1:$C$72,\"Obj\")","v":"^Obj~214@16:01:52"},"calendars",{"$f":"[1]!JsonArray()","v":"^111@16:01:52"}]
[null,"configuration",{"$f":"[1]!JsonObject()","v":"^98@16:01:52"}]
[null,"dates",{"$f":"[1]!JsonArray($D$3:$D$3)","v":"^148@16:01:52"},"2017-04-13"]
[null,"historicalData",{"$f":"[1]!JsonArray()","v":"^81@16:01:52"}]
[null,"scenarioData",{"$f":"[1]!JsonArray($D$5:$D$72)","v":"^205@16:01:52"},{"$f":"[1]!JsonObject($E$5:$E$8,$F$5:$F$8,\"Obj\")","v":"^Obj~201@16:01:52"},"id",{"$f":"[1]!JsonObject($G$5:$G$6,$H$5:$H$6,\"Obj\")","v":"^Obj~176@16:01:52"},"parameters",{"$f":"[1]!JsonArray($I$5:$J$5)","v":"^121@16:01:52"},"Company_A","CONTINUOUS"]
[null,null,null,null,null,null,"type","DIVIDEND"]
[null,null,null,null,"metaData",{"$f":"[1]!JsonObject()","v":"^104@16:01:52"}]
[null,null,null,null,"points",{"$f":"[1]!JsonObject($G$8:$G$8,$H$8:$H$8,\"Obj\")","v":"^Obj~190@16:01:52"},"2017-04-13",{"$f":"[1]!JsonArray($I$8:$I$8)","v":"^167@16:01:52"},{"$f":"[1]!FppDataPoint($J$8:$J$8)","v":"^Point~65@16:01:52"},0.01]
[null,null,null,{"$f":"[1]!JsonObject($E$9:$E$12,$F$9:$F$12,\"Obj\")","v":"^Obj~191@16:01:52"},"id",{"$f":"[1]!JsonObject($G$9:$G$10,$H$9:$H$10,\"Obj\")","v":"^Obj~175@16:01:52"},"parameters",{"$f":"[1]!JsonArray($I$9:$I$9)","v":"^74@16:01:52"},"Company_A"]
[null,null,null,null,null,null,"type","EQUITY"]
[null,null,null,null,"metaData",{"$f":"[1]!JsonObject()","v":"^73@16:01:52"}]
[null,null,null,null,"points",{"$f":"[1]!JsonObject($G$12:$G$12,$H$12:$H$12,\"Obj\")","v":"^Obj~180@16:01:52"},"2017-04-13",{"$f":"[1]!JsonArray($I$12:$I$12)","v":"^171@16:01:52"},{"$f":"[1]!FppDataPoint($J$12:$J$12)","v":"^Point~50@16:01:52"},46000]
[null,null,null,{"$f":"[1]!JsonObject($E$13:$E$16,$F$13:$F$16,\"Obj\")","v":"^Obj~197@16:01:52"},"id",{"$f":"[1]!JsonObject($G$13:$G$14,$H$13:$H$14,\"Obj\")","v":"^Obj~157@16:01:52"},"parameters",{"$f":"[1]!JsonArray($I$13:$I$13)","v":"^91@16:01:52"},"Company_A"]
[null,null,null,null,null,null,"type","Volatility"]
[null,null,null,null,"metaData",{"$f":"[1]!JsonObject()","v":"^88@16:01:52"}]
[null,null,null,null,"points",{"$f":"[1]!JsonObject($G$16:$G$16,$H$16:$H$16,\"Obj\")","v":"^Obj~184@16:01:52"},"2017-04-13",{"$f":"[1]!JsonArray($I$16:$I$16)","v":"^155@16:01:52"},{"$f":"[1]!FppDataPoint($J$16:$J$16)","v":"^Point~138@16:01:52"},2.2100000000000002E-2]
[null,null,null,{"$f":"[1]!JsonObject($E$17:$E$44,$F$17:$F$44,\"Obj\")","v":"^Obj~204@16:01:52"},"id",{"$f":"[1]!JsonObject($G$17:$G$18,$H$17:$H$18,\"Obj\")","v":"^Obj~94@16:01:52"},"parameters",{"$f":"[1]!JsonArray($I$17:$J$17)","v":"^93@16:01:52"},"discount_Libor_3M","discountFactor"]
[null,null,null,null,null,null,"type","YIELD_CURVE"]
[null,null,null,null,"metaData",{"$f":"[1]!JsonObject($G$19:$G$24,$H$19:$H$24,\"Obj\")","v":"^Obj~159@16:01:52"},"currency","USD"]
[null,null,null,null,null,null,"interpolationMethods",{"$f":"[1]!JsonArray($I$20:$I$20)","v":"^109@16:01:52"},"flat"]
[null,null,null,null,null,null,"interpolationVariables",{"$f":"[1]!JsonArray($I$21:$I$21)","v":"^147@16:01:52"},"discountFactor"]
[null,null,null,null,null,null,"switchDates",{"$f":"[1]!JsonArray()","v":"^72@16:01:52"}]
[null,null,null,null,null,null,"zeroCouponBasis","ACT/365.FIXED"]
[null,null,null,null,null,null,"zeroCouponFormula","exponential"]
[null,null,null,null,"points",{"$f":"[1]!JsonObject($G$25:$G$44,$H$25:$H$44,\"Obj\")","v":"^Obj~186@16:01:52"},"2017-04-13",{"$f":"[1]!JsonArray($I$25:$I$44)","v":"^160@16:01:52"},{"$f":"[1]!FppDataPoint($K$25:$K$25,$J$25)","v":"^Point~106@16:01:52"},17269,1]
[null,null,null,null,null,null,null,null,{"$f":"[1]!FppDataPoint($K$26:$K$26,$J$26)","v":"^Point~144@16:01:52"},17294,0.99975999999999998]
[null,null,null,null,null,null,null,null,{"$f":"[1]!FppDataPoint($K$27:$K$27,$J$27)","v":"^Point~46@16:01:52"},17319,0.99951999999999996]
[null,null,null,null,null,null,null,null,{"$f":"[1]!FppDataPoint($K$28:$K$28,$J$28)","v":"^Point~107@16:01:52"},17344,0.99927999999999995]
[null,null,null,null,null,null,null,null,{"$f":"[1]!FppDataPoint($K$29:$K$29,$J$29)","v":"^Point~67@16:01:52"},17369,0.99904000000000004]
[null,null,null,null,null,null,null,null,{"$f":"[1]!FppDataPoint($K$30:$K$30,$J$30)","v":"^Point~54@16:01:52"},17394,0.99880000000000002]
[null,null,null,null,null,null,null,null,{"$f":"[1]!FppDataPoint($K$31:$K$31,$J$31)","v":"^Point~149@16:01:52"},17419,0.99856]
[null,null,null,null,null,null,null,null,{"$f":"[1]!FppDataPoint($K$32:$K$32,$J$32)","v":"^Point~57@16:01:52"},17444,0.99799000000000004]
[null,null,null,null,null,null,null,null,{"$f":"[1]!FppDataPoint($K$33:$K$33,$J$33)","v":"^Point~123@16:01:52"},17469,0.99741999999999997]
[null,null,null,null,null,null,null,null,{"$f":"[1]!FppDataPoint($K$34:$K$34,$J$34)","v":"^Point~125@16:01:52"},17494,0.99685000000000001]
[null,null,null,null,null,null,null,null,{"$f":"[1]!FppDataPoint($K$35:$K$35,$J$35)","v":"^Point~85@16:01:52"},17519,0.99628000000000005]
[null,null,null,null,null,null,null,null,{"$f":"[1]!FppDataPoint($K$36:$K$36,$J$36)","v":"^Point~45@16:01:52"},17544,0.99572000000000005]
[null,null,null,null,null,null,null,null,{"$f":"[1]!FppDataPoint($K$37:$K$37,$J$37)","v":"^Point~70@16:01:52"},17569,0.99514999999999998]
[null,null,null,null,null,null,null,null,{"$f":"[1]!FppDataPoint($K$38:$K$38,$J$38)","v":"^Point~131@16:01:52"},17594,0.99458000000000002]
[null,null,null,null,null,null,null,null,{"$f":"[1]!FppDataPoint($K$39:$K$39,$J$39)","v":"^Point~108@16:01:52"},17619,0.99424000000000001]
[null,null,null,null,null,null,null,null,{"$f":"[1]!FppDataPoint($K$40:$K$40,$J$40)","v":"^Point~56@16:01:52"},17644,0.99390999999999996]
[null,null,null,null,null,null,null,null,{"$f":"[1]!FppDataPoint($K$41:$K$41,$J$41)","v":"^Point~150@16:01:52"},17669,0.99356999999999995]
[null,null,null,null,null,null,null,null,{"$f":"[1]!FppDataPoint($K$42:$K$42,$J$42)","v":"^Point~130@16:01:52"},17694,0.99322999999999995]
[null,null,null,null,null,null,null,null,{"$f":"[1]!FppDataPoint($K$43:$K$43,$J$43)","v":"^Point~79@16:01:52"},17719,0.9929]
[null,null,null,null,null,null,null,null,{"$f":"[1]!FppDataPoint($K$44:$K$44,$J$44)","v":"^Point~135@16:01:52"},17787,0.99256]
[null,null,null,{"$f":"[1]!JsonObject($E$45:$E$72,$F$45:$F$72,\"Obj\")","v":"^Obj~179@16:01:52"},"id",{"$f":"[1]!JsonObject($G$45:$G$46,$H$45:$H$46,\"Obj\")","v":"^Obj~161@16:01:52"},"parameters",{"$f":"[1]!JsonArray($I$45:$J$45)","v":"^61@16:01:52"},"projection_Libor_3M","discountFactor"]
[null,null,null,null,null,null,"type","YIELD_CURVE"]
[null,null,null,null,"metaData",{"$f":"[1]!JsonObject($G$47:$G$52,$H$47:$H$52,\"Obj\")","v":"^Obj~146@16:01:52"},"currency","USD"]
[null,null,null,null,null,null,"interpolationMethods",{"$f":"[1]!JsonArray($I$48:$I$48)","v":"^145@16:01:52"},"flat"]
[null,null,null,null,null,null,"interpolationVariables",{"$f":"[1]!JsonArray($I$49:$I$49)","v":"^128@16:01:52"},"discountFactor"]
[null,null,null,null,null,null,"switchDates",{"$f":"[1]!JsonArray()","v":"^82@16:01:52"}]
[null,null,null,null,null,null,"zeroCouponBasis","ACT/365.FIXED"]
[null,null,null,null,null,null,"zeroCouponFormula","exponential"]
[null,null,null,null,"points",{"$f":"[1]!JsonObject($G$53:$G$72,$H$53:$H$72,\"Obj\")","v":"^Obj~178@16:01:52"},"2017-04-13",{"$f":"[1]!JsonArray($I$53:$I$72)","v":"^177@16:01:52"},{"$f":"[1]!FppDataPoint($K$53:$K$53,$J$53)","v":"^Point~126@16:01:52"},17269,1]
[null,null,null,null,null,null,null,null,{"$f":"[1]!FppDataPoint($K$54:$K$54,$J$54)","v":"^Point~68@16:01:52"},17294,0.99943000000000004]
[null,null,null,null,null,null,null,null,{"$f":"[1]!FppDataPoint($K$55:$K$55,$J$55)","v":"^Point~58@16:01:52"},17319,0.99885999999999997]
[null,null,null,null,null,null,null,null,{"$f":"[1]!FppDataPoint($K$56:$K$56,$J$56)","v":"^Point~48@16:01:52"},17344,0.99829000000000001]
[null,null,null,null,null,null,null,null,{"$f":"[1]!FppDataPoint($K$57:$K$57,$J$57)","v":"^Point~96@16:01:52"},17369,0.99772000000000005]
[null,null,null,null,null,null,null,null,{"$f":"[1]!FppDataPoint($K$58:$K$58,$J$58)","v":"^Point~137@16:01:52"},17394,0.99714999999999998]
[null,null,null,null,null,null,null,null,{"$f":"[1]!FppDataPoint($K$59:$K$59,$J$59)","v":"^Point~84@16:01:52"},17419,0.99658000000000002]
[null,null,null,null,null,null,null,null,{"$f":"[1]!FppDataPoint($K$60:$K$60,$J$60)","v":"^Point~101@16:01:52"},17444,0.99629000000000001]
[null,null,null,null,null,null,null,null,{"$f":"[1]!FppDataPoint($K$61:$K$61,$J$61)","v":"^Point~122@16:01:52"},17469,0.99600999999999995]
[null,null,null,null,null,null,null,null,{"$f":"[1]!FppDataPoint($K$62:$K$62,$J$62)","v":"^Point~115@16:01:52"},17494,0.99572000000000005]
[null,null,null,null,null,null,null,null,{"$f":"[1]!FppDataPoint($K$63:$K$63,$J$63)","v":"^Point~78@16:01:52"},17519,0.99543999999999999]
[null,null,null,null,null,null,null,null,{"$f":"[1]!FppDataPoint($K$64:$K$64,$J$64)","v":"^Point~49@16:01:52"},17544,0.99514999999999998]
[null,null,null,null,null,null,null,null,{"$f":"[1]!FppDataPoint($K$65:$K$65,$J$65)","v":"^Point~40@16:01:52"},17569,0.99485999999999997]
[null,null,null,null,null,null,null,null,{"$f":"[1]!FppDataPoint($K$66:$K$66,$J$66)","v":"^Point~142@16:01:52"},17594,0.99458000000000002]
[null,null,null,null,null,null,null,null,{"$f":"[1]!FppDataPoint($K$67:$K$67,$J$67)","v":"^Point~97@16:01:52"},17619,0.99402999999999997]
[null,null,null,null,null,null,null,null,{"$f":"[1]!FppDataPoint($K$68:$K$68,$J$68)","v":"^Point~51@16:01:52"},17644,0.99346999999999996]
[null,null,null,null,null,null,null,null,{"$f":"[1]!FppDataPoint($K$69:$K$69,$J$69)","v":"^Point~103@16:01:52"},17669,0.99292000000000002]
[null,null,null,null,null,null,null,null,{"$f":"[1]!FppDataPoint($K$70:$K$70,$J$70)","v":"^Point~118@16:01:52"},17694,0.99236000000000002]
[null,null,null,null,null,null,null,null,{"$f":"[1]!FppDataPoint($K$71:$K$71,$J$71)","v":"^Point~143@16:01:52"},17719,0.99180999999999997]
[null,null,null,null,null,null,null,null,{"$f":"[1]!FppDataPoint($K$72:$K$72,$J$72)","v":"^Point~140@16:01:52"},17787,0.99124999999999996]

{"sheet":"Device","index":5,"n_rows":2,"n_cols":6,"rows_kept":2,"cut":false,"hidden":false,"merged":[[0,2,1,2],[0,1,1,1],[0,0,1,0]]}
[{"$f":"[1]!JsonObject($B$1:$B$2,$C$1:$C$2,\"Obj\")","v":"^Obj~153@16:01:52"},"engineConfig",{"$f":"[1]!JsonObject($D$1:$D$2,$E$1:$E$2,\"Obj\")","v":"^Obj~120@16:01:52"},"oclSliceSize",8192]
[null,null,null,"selectedOpenclDevices",{"$f":"IF(F2=\"JAVA\",-2,IF(F2=\"GROOVY\",-1,))","v":0},"SIMD CPU"]